BEGIN:VCALENDAR
VERSION:2.0
PRODID:-//Tukios.com/
BEGIN:VEVENT
UID:68832b89-f6b9-4cce-8325-31bb64b5c71e@www.mcdougaldfuneralhome.com
DTSTAMP:20260424T235227Z
DTSTART:20260426T180000Z
DTEND:20260426T191500Z
SUMMARY:Visitation
DESCRIPTION:
URL:https://www.mcdougaldfuneralhome.com/obituaries/becky-bostic
LOCATION:The McDougald Funeral Home 2211 N. Main Street  Anderson SC 
	29621
GEO:34.5253314;-82.6588596
END:VEVENT
END:VCALENDAR