BEGIN:VCALENDAR
VERSION:2.0
PRODID:-//Tukios.com/
BEGIN:VEVENT
UID:320c40cf-493e-40b5-a4b3-6b227e97c253@www.mcdougaldfuneralhome.com
DTSTAMP:20260424T235057Z
DTSTART:20260426T193000Z
DTEND:20260426T203000Z
SUMMARY:Funeral Service
DESCRIPTION:
URL:https://www.mcdougaldfuneralhome.com/obituaries/becky-bostic
LOCATION:The McDougald Funeral Home Chapel 2211 N. Main Street  Anderson 
	SC 29621
GEO:34.5253314;-82.6588596
END:VEVENT
END:VCALENDAR