BEGIN:VCALENDAR
VERSION:2.0
PRODID:-//Tukios.com/
BEGIN:VEVENT
UID:c27d35c0-549a-4fa3-99de-fbbaff43f90e@www.mcdougaldfuneralhome.com
DTSTAMP:20260426T003606Z
DTSTART:20260428T163000Z
DTEND:20260428T173000Z
SUMMARY:Visitation
DESCRIPTION:
URL:https://www.mcdougaldfuneralhome.com/obituaries/dorothy-mae-moore
LOCATION: 2230 Old Greenville Hwy  Pendleton SC 29670
GEO:34.6651847;-82.7656523
END:VEVENT
END:VCALENDAR