BEGIN:VCALENDAR
VERSION:2.0
PRODID:-//Tukios.com/
BEGIN:VEVENT
UID:dd1b12af-2c2f-4842-96aa-0bce9f31d182@www.mcdougaldfuneralhome.com
DTSTAMP:20260426T003908Z
DTSTART:20260428T180000Z
DTEND:20260428T190000Z
SUMMARY:Funeral Service
DESCRIPTION:
URL:https://www.mcdougaldfuneralhome.com/obituaries/dorothy-mae-moore
LOCATION: 2230 Old Greenville Hwy  Pendleton SC 29670
GEO:34.6651847;-82.7656523
END:VEVENT
END:VCALENDAR